BEGIN:VCALENDAR
VERSION:2.0
PRODID:-//Barrow GOP - ECPv6.11.2//NONSGML v1.0//EN
CALSCALE:GREGORIAN
METHOD:PUBLISH
X-WR-CALNAME:Barrow GOP
X-ORIGINAL-URL:https://www.thebarrowgop.org
X-WR-CALDESC:Events for Barrow GOP
REFRESH-INTERVAL;VALUE=DURATION:PT1H
X-Robots-Tag:noindex
X-PUBLISHED-TTL:PT1H
BEGIN:VTIMEZONE
TZID:UTC
BEGIN:STANDARD
TZOFFSETFROM:+0000
TZOFFSETTO:+0000
TZNAME:UTC
DTSTART:20240101T000000
END:STANDARD
END:VTIMEZONE
BEGIN:VEVENT
DTSTART;TZID=UTC:20240219T190000
DTEND;TZID=UTC:20240219T200000
DTSTAMP:20260423T181259
CREATED:20240124T140829Z
LAST-MODIFIED:20240124T140829Z
UID:1626-1708369200-1708372800@www.thebarrowgop.org
SUMMARY:Monday February 19th\, 2024 Monthly GOP meeting at Winder Women's Club
DESCRIPTION:All regular monthly meetings begin at 7:00 PM in the Winder Woman’s Club\, 15 W. Midland Ave.\, Winder\, GA.
URL:https://www.thebarrowgop.org/event/join-our-efforts-for-a-better-future-feb-19-2024/
LOCATION:Winder Woman’s Club\, 15 W Midland Ave\, Winder\, GA 30680\, USA
CATEGORIES:Voter Registration
ATTACH;FMTTYPE=image/jpeg:https://www.thebarrowgop.org/wp-content/uploads/2023/06/48662.jpeg
END:VEVENT
BEGIN:VEVENT
DTSTART;TZID=UTC:20240224T083000
DTEND;TZID=UTC:20240224T180000
DTSTAMP:20260423T181259
CREATED:20230726T160538Z
LAST-MODIFIED:20240124T141242Z
UID:1463-1708763400-1708797600@www.thebarrowgop.org
SUMMARY:Precinct Meeting 2-24 registration starts at 8:30 official start is at 10:00 am at Winder Lion's Club
DESCRIPTION:Precinct Meeting 2-24 registration starts at 8:30 official start is at 10:00 am in the Winder Lion’s Club\, 354 E Broad St\, Winder\, GA 30680\, United States
URL:https://www.thebarrowgop.org/event/precinct-meeting-2-24-registration/
LOCATION:Winder Lions Club\, 15 W Midland Ave\, Winder\, GA\, 30680\, United States
CATEGORIES:Voter Registration
ATTACH;FMTTYPE=image/jpeg:https://www.thebarrowgop.org/wp-content/uploads/2023/06/48662.jpeg
END:VEVENT
END:VCALENDAR