BEGIN:VCALENDAR
VERSION:2.0
PRODID:-//Barrow GOP - ECPv6.11.2//NONSGML v1.0//EN
CALSCALE:GREGORIAN
METHOD:PUBLISH
X-WR-CALNAME:Barrow GOP
X-ORIGINAL-URL:https://www.thebarrowgop.org
X-WR-CALDESC:Events for Barrow GOP
REFRESH-INTERVAL;VALUE=DURATION:PT1H
X-Robots-Tag:noindex
X-PUBLISHED-TTL:PT1H
BEGIN:VTIMEZONE
TZID:UTC
BEGIN:STANDARD
TZOFFSETFROM:+0000
TZOFFSETTO:+0000
TZNAME:UTC
DTSTART:20240101T000000
END:STANDARD
END:VTIMEZONE
BEGIN:VEVENT
DTSTART;TZID=UTC:20240606T080000
DTEND;TZID=UTC:20240606T180000
DTSTAMP:20260423T115327
CREATED:20240531T152644Z
LAST-MODIFIED:20240531T152644Z
UID:1679-1717660800-1717696800@www.thebarrowgop.org
SUMMARY:County Convention 6-7-2024 registration starts at 8:30 official start is at 10:00 am at Winder Lion's Club
DESCRIPTION:County Convention 6-7-2024 registration starts at 8:30 official start is at 10:00 am in the Winder Lion’s Club\, 354 E Broad St\, Winder\, GA 30680\, United States
URL:https://www.thebarrowgop.org/event/county-convention-6-7-2024-registration/
LOCATION:Winder Lions Club\, 15 W Midland Ave\, Winder\, GA\, 30680\, United States
CATEGORIES:Voter Registration
ATTACH;FMTTYPE=image/jpeg:https://www.thebarrowgop.org/wp-content/uploads/2023/06/48662.jpeg
END:VEVENT
END:VCALENDAR