BEGIN:VCALENDAR
VERSION:2.0
PRODID:-//Barrow GOP - ECPv6.11.2//NONSGML v1.0//EN
CALSCALE:GREGORIAN
METHOD:PUBLISH
X-WR-CALNAME:Barrow GOP
X-ORIGINAL-URL:https://www.thebarrowgop.org
X-WR-CALDESC:Events for Barrow GOP
REFRESH-INTERVAL;VALUE=DURATION:PT1H
X-Robots-Tag:noindex
X-PUBLISHED-TTL:PT1H
BEGIN:VTIMEZONE
TZID:UTC
BEGIN:STANDARD
TZOFFSETFROM:+0000
TZOFFSETTO:+0000
TZNAME:UTC
DTSTART:20240101T000000
END:STANDARD
END:VTIMEZONE
BEGIN:VEVENT
DTSTART;TZID=UTC:20240916T183000
DTEND;TZID=UTC:20240916T193000
DTSTAMP:20260423T064632
CREATED:20240821T135252Z
LAST-MODIFIED:20240821T135411Z
UID:1708-1726511400-1726515000@www.thebarrowgop.org
SUMMARY:Monday September 16th Monthly GOP meeting at Winder Women's Club
DESCRIPTION:All regular monthly meetings begin at 6:30 PM in the Winder Lions Club\, 15 W. Midland Ave.\, Winder\, GA.
URL:https://www.thebarrowgop.org/event/join-our-efforts-for-a-better-future-6/
LOCATION:Winder Lions Club\, 15 W Midland Ave\, Winder\, GA\, 30680\, United States
CATEGORIES:Voter Registration
ATTACH;FMTTYPE=image/jpeg:https://www.thebarrowgop.org/wp-content/uploads/2023/06/48662.jpeg
END:VEVENT
END:VCALENDAR