BEGIN:VCALENDAR
VERSION:2.0
PRODID:-//Barrow GOP - ECPv6.11.2//NONSGML v1.0//EN
CALSCALE:GREGORIAN
METHOD:PUBLISH
X-ORIGINAL-URL:https://www.thebarrowgop.org
X-WR-CALDESC:Events for Barrow GOP
REFRESH-INTERVAL;VALUE=DURATION:PT1H
X-Robots-Tag:noindex
X-PUBLISHED-TTL:PT1H
BEGIN:VTIMEZONE
TZID:UTC
BEGIN:STANDARD
TZOFFSETFROM:+0000
TZOFFSETTO:+0000
TZNAME:UTC
DTSTART:20240101T000000
END:STANDARD
END:VTIMEZONE
BEGIN:VEVENT
DTSTART;TZID=UTC:20240715T190000
DTEND;TZID=UTC:20240715T200000
DTSTAMP:20260423T120151
CREATED:20230706T053205Z
LAST-MODIFIED:20240705T212234Z
UID:1354-1721070000-1721073600@www.thebarrowgop.org
SUMMARY:Monday July 15th Monthly GOP meeting at Winder Women's Club
DESCRIPTION:All regular monthly meetings begin at 7:00 PM in the Winder Woman’s Club\, 15 W. Midland Ave.\, Winder\, GA.
URL:https://www.thebarrowgop.org/event/join-our-efforts-for-a-better-future/
LOCATION:Winder Woman’s Club\, 15 W Midland Ave\, Winder\, GA 30680\, USA
CATEGORIES:Voter Registration
ATTACH;FMTTYPE=image/jpeg:https://www.thebarrowgop.org/wp-content/uploads/2023/06/48662.jpeg
END:VEVENT
END:VCALENDAR